BEGIN:VCALENDAR
VERSION:2.0
PRODID:SchoolNow
CALSCALE:GREGORIAN
BEGIN:VEVENT
UID:9b9a058c-096e-11f1-b5af-0affcb8df013
DTSTAMP:20260422T053508Z
SUMMARY:Newbery PTA Meeting
LOCATION:https://wenatcheeschools-org.zoom.us/j/99967415808?jst=3
URL;VALUE=URI:https://www.wenatcheeschools.org/nb/calendar/8855765/newbery-
 pta-meeting
DTSTART:20271014T010000Z
DTEND:20271014T020000Z
END:VEVENT
END:VCALENDAR
