BEGIN:VCALENDAR
VERSION:2.0
PRODID:SchoolNow
CALSCALE:GREGORIAN
BEGIN:VEVENT
UID:23b36816-324b-11ef-bf73-0a58a9feac02
DTSTAMP:20240624T165937Z
SUMMARY:Back to School Bulldog Night
URL;VALUE=URI:https://www.wenatcheeschools.org/oms/calendar/6162445/back-to
 -school-bulldog-night
DTSTART:20240821T230000Z
DTEND:20240822T010000Z
END:VEVENT
END:VCALENDAR
