BEGIN:VCALENDAR
VERSION:2.0
PRODID:SchoolNow
CALSCALE:GREGORIAN
BEGIN:VEVENT
UID:95c4a79a-3317-11ef-bb41-0afff87fdad3
DTSTAMP:20240625T172306Z
SUMMARY:All-District Musical Auditions: Roald Dahl's Charlie and the Chocol
 ate Factory
URL;VALUE=URI:https://www.wenatcheeschools.org/oms/calendar/6166346/all-dis
 trict-musical-auditions-roald-dahls-charlie-and-the-chocolate-factory
DTSTART:20240910T223500Z
DTEND:20240910T233500Z
END:VEVENT
END:VCALENDAR
