BEGIN:VCALENDAR
VERSION:2.0
PRODID:SchoolNow
CALSCALE:GREGORIAN
BEGIN:VEVENT
UID:897006a8-0fec-11f0-88e6-0257c16fd141
DTSTAMP:20251217T035535Z
SUMMARY:Possible snow make up day
URL;VALUE=URI:https://www.wenatcheeschools.org/pio/calendar/7835192/possibl
 e-snow-make-up-day
DTSTART;VALUE=DATE:20260501
DTEND;VALUE=DATE:20260502
END:VEVENT
END:VCALENDAR
