BEGIN:VCALENDAR
VERSION:2.0
PRODID:SchoolNow
CALSCALE:GREGORIAN
BEGIN:VEVENT
UID:89700798-0fec-11f0-b06a-0257c16fd141
DTSTAMP:20251217T035535Z
SUMMARY:Memorial Day (No School)
URL;VALUE=URI:https://www.wenatcheeschools.org/pio/calendar/7835193/memoria
 l-day-no-school
DTSTART;VALUE=DATE:20260525
DTEND;VALUE=DATE:20260526
END:VEVENT
END:VCALENDAR
