BEGIN:VCALENDAR
VERSION:2.0
PRODID:SchoolNow
CALSCALE:GREGORIAN
BEGIN:VEVENT
UID:89700874-0fec-11f0-b947-0257c16fd141
DTSTAMP:20251217T035535Z
SUMMARY:Last Day of School - Students dismissed 3 hours early
URL;VALUE=URI:https://www.wenatcheeschools.org/pio/calendar/7835194/last-da
 y-of-school-students-dismissed-3-hours-early
DTSTART;VALUE=DATE:20260612
DTEND;VALUE=DATE:20260613
END:VEVENT
END:VCALENDAR
