BEGIN:VCALENDAR
VERSION:2.0
PRODID:SchoolNow
CALSCALE:GREGORIAN
BEGIN:VEVENT
UID:8970095a-0fec-11f0-a293-0257c16fd141
DTSTAMP:20251217T035535Z
SUMMARY:Snow make up days (if needed)
URL;VALUE=URI:https://www.wenatcheeschools.org/pio/calendar/7835195/snow-ma
 ke-up-days-if-needed
DTSTART;VALUE=DATE:20260615
DTEND;VALUE=DATE:20260617
END:VEVENT
END:VCALENDAR
