BEGIN:VCALENDAR
VERSION:2.0
PRODID:SchoolNow
CALSCALE:GREGORIAN
BEGIN:VEVENT
UID:89700a40-0fec-11f0-9fc3-0257c16fd141
DTSTAMP:20251217T035535Z
SUMMARY:Juneteenth
URL;VALUE=URI:https://www.wenatcheeschools.org/pio/calendar/7835196/junetee
 nth
DTSTART;VALUE=DATE:20260619
DTEND;VALUE=DATE:20260620
END:VEVENT
END:VCALENDAR
