BEGIN:VCALENDAR
VERSION:2.0
PRODID:SchoolNow
CALSCALE:GREGORIAN
BEGIN:VEVENT
UID:c516127e-1be4-11ec-8506-0a1ae679a811
DTSTAMP:20220216T150224Z
SUMMARY:GLAD® + Science Training-  Kindergarten Ecosystems: Rainforests
URL;VALUE=URI:https://www.wenatcheeschools.org/project-glad/calendar/275665
 3/training-glad-science-earth-on-the-move-clone-clone
DTSTART:20220201T230000Z
DTEND:20220202T003000Z
END:VEVENT
END:VCALENDAR
