BEGIN:VCALENDAR
VERSION:2.0
PRODID:SchoolNow
CALSCALE:GREGORIAN
BEGIN:VEVENT
UID:d138420c-1be4-11ec-842b-0a1ae679a811
DTSTAMP:20220216T150137Z
SUMMARY:GLAD® + Science Training-  Kindergarten Ecosystems: Rainforests
URL;VALUE=URI:https://www.wenatcheeschools.org/project-glad/calendar/275665
 4/training-glad-science-earth-on-the-move-clone-clone-clone
DTSTART:20220203T230000Z
DTEND:20220204T003000Z
END:VEVENT
END:VCALENDAR
