BEGIN:VCALENDAR
VERSION:2.0
PRODID:SchoolNow
CALSCALE:GREGORIAN
BEGIN:VEVENT
UID:ea38178c-1be4-11ec-99cf-0a1ae679a811
DTSTAMP:20220216T145511Z
SUMMARY:GLAD® + Science Training-  3rd Grade Weather & Climate
URL;VALUE=URI:https://www.wenatcheeschools.org/project-glad/calendar/275665
 5/training-glad-science-earth-on-the-move-clone-clone-clone-clone
DTSTART:20220310T230000Z
DTEND:20220311T003000Z
END:VEVENT
END:VCALENDAR
