BEGIN:VCALENDAR
VERSION:2.0
PRODID:SchoolNow
CALSCALE:GREGORIAN
BEGIN:VEVENT
UID:f54648b0-1be4-11ec-a91a-0a1ae679a811
DTSTAMP:20220216T145534Z
SUMMARY:GLAD® + Science Training-  3rd Grade Weather & Climate
URL;VALUE=URI:https://www.wenatcheeschools.org/project-glad/calendar/275665
 6/training-glad-science-earth-on-the-move-clone-clone-clone-clone-clone
DTSTART:20220311T230000Z
DTEND:20220312T003000Z
END:VEVENT
END:VCALENDAR
