BEGIN:VCALENDAR
VERSION:2.0
PRODID:SchoolNow
CALSCALE:GREGORIAN
BEGIN:VEVENT
UID:fa2a882e-1c83-11ec-8da9-0ab9fe8e3775
DTSTAMP:20220216T150114Z
SUMMARY:GLAD® Make & Takes
LOCATION:Ben's Place
URL;VALUE=URI:https://www.wenatcheeschools.org/project-glad/calendar/275859
 5/training-glad-science-earth-on-the-move-clone-clone-clone-clone-clone-cl
 one-clone-clone-clone-clone-clone
DTSTART:20220208T230000Z
DTEND:20220209T003000Z
END:VEVENT
END:VCALENDAR
