BEGIN:VCALENDAR
VERSION:2.0
PRODID:SchoolNow
CALSCALE:GREGORIAN
BEGIN:VEVENT
UID:04201a6a-1c84-11ec-a48f-0ab9fe8e3775
DTSTAMP:20220216T150019Z
SUMMARY:GLAD® Make & Takes
LOCATION:Ben's Place
URL;VALUE=URI:https://www.wenatcheeschools.org/project-glad/calendar/275859
 6/training-glad-science-earth-on-the-move-clone-clone-clone-clone-clone-cl
 one-clone-clone-clone-clone-clone-clone
DTSTART:20220209T230000Z
DTEND:20220210T003000Z
END:VEVENT
END:VCALENDAR
