BEGIN:VCALENDAR
VERSION:2.0
PRODID:SchoolNow
CALSCALE:GREGORIAN
BEGIN:VEVENT
UID:1604956c-1c84-11ec-8593-0ab9fe8e3775
DTSTAMP:20220216T145404Z
SUMMARY:GLAD® Make & Takes
LOCATION:Ben's Place
URL;VALUE=URI:https://www.wenatcheeschools.org/project-glad/calendar/275859
 7/training-glad-science-earth-on-the-move-clone-clone-clone-clone-clone-cl
 one-clone-clone-clone-clone-clone-clone
DTSTART:20220308T230000Z
DTEND:20220309T003000Z
END:VEVENT
END:VCALENDAR
