BEGIN:VCALENDAR
VERSION:2.0
PRODID:SchoolNow
CALSCALE:GREGORIAN
BEGIN:VEVENT
UID:2158fe94-1c84-11ec-a213-0ab9fe8e3775
DTSTAMP:20220216T145439Z
SUMMARY:GLAD® Make & Takes
LOCATION:Ben's Place
URL;VALUE=URI:https://www.wenatcheeschools.org/project-glad/calendar/275859
 8/training-glad-science-earth-on-the-move-clone-clone-clone-clone-clone-cl
 one-clone-clone-clone-clone-clone-clone-clone
DTSTART:20220309T230000Z
DTEND:20220310T003000Z
END:VEVENT
END:VCALENDAR
