BEGIN:VCALENDAR
VERSION:2.0
PRODID:SchoolNow
CALSCALE:GREGORIAN
BEGIN:VEVENT
UID:49043292-1c84-11ec-9548-0ab9fe8e3775
DTSTAMP:20220216T145951Z
SUMMARY:GLAD® Make & Takes
LOCATION:Ben's Place
URL;VALUE=URI:https://www.wenatcheeschools.org/project-glad/calendar/275860
 2/training-glad-science-earth-on-the-move-clone-clone-clone-clone-clone-cl
 one-clone-clone-clone-clone-clone-clone-clone-clone-clone-clone
DTSTART:20220517T220000Z
DTEND:20220517T233000Z
END:VEVENT
END:VCALENDAR
