BEGIN:VCALENDAR
VERSION:2.0
PRODID:SchoolNow
CALSCALE:GREGORIAN
BEGIN:VEVENT
UID:af8c7504-72fd-11ec-9285-0a6ff06be7a1
DTSTAMP:20220111T164403Z
SUMMARY:International SEL Day
URL;VALUE=URI:https://www.wenatcheeschools.org/sel/calendar/3070684/interna
 tional-sel-day
DTSTART;VALUE=DATE:20220311
DTEND;VALUE=DATE:20220312
END:VEVENT
END:VCALENDAR
