BEGIN:VCALENDAR
VERSION:2.0
PRODID:SchoolNow
CALSCALE:GREGORIAN
BEGIN:VEVENT
UID:e996285a-7873-11ec-a349-0eaba6d4782f
DTSTAMP:20220118T153408Z
SUMMARY:Free Movie - RACE to be Human
URL;VALUE=URI:https://www.wenatcheeschools.org/sel/calendar/3076885/free-mo
 vie-race-to-be-human
DTSTART:20220211T030000Z
DTEND:20220211T040000Z
END:VEVENT
END:VCALENDAR
