BEGIN:VCALENDAR
VERSION:2.0
PRODID:SchoolNow
CALSCALE:GREGORIAN
BEGIN:VEVENT
UID:545cc434-da45-11ee-b8c5-0a58a9feac02
DTSTAMP:20240304T163619Z
SUMMARY:Passport Club Geography Bee
URL;VALUE=URI:https://www.wenatcheeschools.org/ss/calendar/5463383/passport
 -club-geography-bee
DTSTART:20240605T151500Z
DTEND:20240605T161500Z
END:VEVENT
END:VCALENDAR
