BEGIN:VCALENDAR
VERSION:2.0
PRODID:SchoolNow
CALSCALE:GREGORIAN
BEGIN:VEVENT
UID:64db43bc-da45-11ee-8a08-0a58a9feac02
DTSTAMP:20240304T163647Z
SUMMARY:Super Student Assembly
URL;VALUE=URI:https://www.wenatcheeschools.org/ss/calendar/5463384/super-st
 udent-assembly
DTSTART:20240607T153600Z
DTEND:20240607T163600Z
END:VEVENT
END:VCALENDAR
