BEGIN:VCALENDAR
VERSION:2.0
PRODID:SchoolNow
CALSCALE:GREGORIAN
BEGIN:VEVENT
UID:7906d6c6-da45-11ee-9fec-0e7bdd5546c7
DTSTAMP:20240304T163721Z
SUMMARY:2nd Grade Field Trip
URL;VALUE=URI:https://www.wenatcheeschools.org/ss/calendar/5463385/2nd-grad
 e-field-trip
DTSTART:20240610T153700Z
DTEND:20240610T163700Z
END:VEVENT
END:VCALENDAR
