BEGIN:VCALENDAR
VERSION:2.0
PRODID:SchoolNow
CALSCALE:GREGORIAN
BEGIN:VEVENT
UID:8a7cadf4-da45-11ee-abd7-0e015e73bdc3
DTSTAMP:20240304T163750Z
SUMMARY:Incoming Kindergarten Assessments by Appointment
URL;VALUE=URI:https://www.wenatcheeschools.org/ss/calendar/5463386/incoming
 -kindergarten-assessments-by-appointment
DTSTART:20240610T153700Z
DTEND:20240613T163700Z
END:VEVENT
END:VCALENDAR
