BEGIN:VCALENDAR
VERSION:2.0
PRODID:SchoolNow
CALSCALE:GREGORIAN
BEGIN:VEVENT
UID:9a70a2b0-da45-11ee-89d1-0ebe5f717b7b
DTSTAMP:20240304T163817Z
SUMMARY:Field Day
URL;VALUE=URI:https://www.wenatcheeschools.org/ss/calendar/5463387/field-da
 y
DTSTART:20240611T153800Z
DTEND:20240611T163800Z
END:VEVENT
END:VCALENDAR
