BEGIN:VCALENDAR
VERSION:2.0
PRODID:SchoolNow
CALSCALE:GREGORIAN
BEGIN:VEVENT
UID:abe9693c-da45-11ee-a426-02b1e66789b7
DTSTAMP:20240304T163846Z
SUMMARY:5th Grade Field Trip
URL;VALUE=URI:https://www.wenatcheeschools.org/ss/calendar/5463388/5th-grad
 e-field-trip
DTSTART:20240612T153800Z
DTEND:20240612T163800Z
END:VEVENT
END:VCALENDAR
