BEGIN:VCALENDAR
VERSION:2.0
PRODID:SchoolNow
CALSCALE:GREGORIAN
BEGIN:VEVENT
UID:e26484a6-da45-11ee-b6b8-0a58a9feac02
DTSTAMP:20240304T164018Z
SUMMARY:Last Day of School (Half Day)
URL;VALUE=URI:https://www.wenatcheeschools.org/ss/calendar/5463391/last-day
 -of-school-half-day
DTSTART:20240614T153900Z
DTEND:20240614T163900Z
END:VEVENT
END:VCALENDAR
