BEGIN:VCALENDAR
VERSION:2.0
PRODID:SchoolNow
CALSCALE:GREGORIAN
BEGIN:VEVENT
UID:dbdf8c44-efd8-11ef-8257-0affebd27607
DTSTAMP:20260421T025509Z
SUMMARY:No School - Winter Break
URL;VALUE=URI:https://www.wenatcheeschools.org/wa/calendar/7510065/no-schoo
 l-winter-break
DTSTART;VALUE=DATE:20251222
DTEND;VALUE=DATE:20251227
END:VEVENT
END:VCALENDAR
