BEGIN:VCALENDAR
VERSION:2.0
PRODID:SchoolNow
CALSCALE:GREGORIAN
BEGIN:VEVENT
UID:dbdf8ee2-efd8-11ef-a913-0affebd27607
DTSTAMP:20260421T025509Z
SUMMARY:No School - Records Day
URL;VALUE=URI:https://www.wenatcheeschools.org/wa/calendar/7510068/no-schoo
 l-records-day
DTSTART;VALUE=DATE:20260123
DTEND;VALUE=DATE:20260124
END:VEVENT
END:VCALENDAR
