BEGIN:VCALENDAR
VERSION:2.0
PRODID:SchoolNow
CALSCALE:GREGORIAN
BEGIN:VEVENT
UID:dbdf8fb4-efd8-11ef-bc1d-0affebd27607
DTSTAMP:20260421T025509Z
SUMMARY:No School - PD  Day
URL;VALUE=URI:https://www.wenatcheeschools.org/wa/calendar/7510069/no-schoo
 l-pd-day
DTSTART;VALUE=DATE:20260206
DTEND;VALUE=DATE:20260207
END:VEVENT
END:VCALENDAR
