BEGIN:VCALENDAR
VERSION:2.0
PRODID:SchoolNow
CALSCALE:GREGORIAN
BEGIN:VEVENT
UID:dbdf9090-efd8-11ef-b5c5-0affebd27607
DTSTAMP:20260421T025509Z
SUMMARY:No School - Presidents' Day
URL;VALUE=URI:https://www.wenatcheeschools.org/wa/calendar/7510070/no-schoo
 l-presidents-day
DTSTART;VALUE=DATE:20260216
DTEND;VALUE=DATE:20260217
END:VEVENT
END:VCALENDAR
