BEGIN:VCALENDAR
VERSION:2.0
PRODID:SchoolNow
CALSCALE:GREGORIAN
BEGIN:VEVENT
UID:dbdf916c-efd8-11ef-bd93-0affebd27607
DTSTAMP:20260421T025509Z
SUMMARY:No School - PLC Day
URL;VALUE=URI:https://www.wenatcheeschools.org/wa/calendar/7510071/no-schoo
 l-plc-day
DTSTART;VALUE=DATE:20260306
DTEND;VALUE=DATE:20260307
END:VEVENT
END:VCALENDAR
