BEGIN:VCALENDAR
VERSION:2.0
PRODID:SchoolNow
CALSCALE:GREGORIAN
BEGIN:VEVENT
UID:dbdf9248-efd8-11ef-a697-0affebd27607
DTSTAMP:20260421T025509Z
SUMMARY:No School - Spring Conferences
URL;VALUE=URI:https://www.wenatcheeschools.org/wa/calendar/7510072/no-schoo
 l-spring-conferences
DTSTART;VALUE=DATE:20260320
DTEND;VALUE=DATE:20260321
END:VEVENT
END:VCALENDAR
