BEGIN:VCALENDAR
VERSION:2.0
PRODID:SchoolNow
CALSCALE:GREGORIAN
BEGIN:VEVENT
UID:dbdf931a-efd8-11ef-94c7-0affebd27607
DTSTAMP:20260421T025509Z
SUMMARY:Spring Break
URL;VALUE=URI:https://www.wenatcheeschools.org/wa/calendar/7510073/spring-b
 reak
DTSTART;VALUE=DATE:20260406
DTEND;VALUE=DATE:20260411
END:VEVENT
END:VCALENDAR
