BEGIN:VCALENDAR
VERSION:2.0
PRODID:SchoolNow
CALSCALE:GREGORIAN
BEGIN:VEVENT
UID:dbdf93f6-efd8-11ef-a84e-0affebd27607
DTSTAMP:20260421T025509Z
SUMMARY:No School - Non Contracted Day
URL;VALUE=URI:https://www.wenatcheeschools.org/wa/calendar/7510074/no-schoo
 l-non-contracted-day
DTSTART;VALUE=DATE:20260501
DTEND;VALUE=DATE:20260502
END:VEVENT
END:VCALENDAR
