BEGIN:VCALENDAR
VERSION:2.0
PRODID:SchoolNow
CALSCALE:GREGORIAN
BEGIN:VEVENT
UID:dbdf94c8-efd8-11ef-8dc4-0affebd27607
DTSTAMP:20260421T025509Z
SUMMARY:No School - Memorial Day
URL;VALUE=URI:https://www.wenatcheeschools.org/wa/calendar/7510075/no-schoo
 l-memorial-day
DTSTART;VALUE=DATE:20260525
DTEND;VALUE=DATE:20260526
END:VEVENT
END:VCALENDAR
