BEGIN:VCALENDAR
VERSION:2.0
PRODID:SchoolNow
CALSCALE:GREGORIAN
BEGIN:VEVENT
UID:dbdf95a4-efd8-11ef-8df1-0affebd27607
DTSTAMP:20260421T025509Z
SUMMARY:Last Day of School (Early Release)
URL;VALUE=URI:https://www.wenatcheeschools.org/wa/calendar/7510076/last-day
 -of-school-early-release
DTSTART:20260612T144500Z
DTEND:20260612T183000Z
END:VEVENT
END:VCALENDAR
