BEGIN:VCALENDAR
VERSION:2.0
PRODID:SchoolNow
CALSCALE:GREGORIAN
BEGIN:VEVENT
UID:dbdf9676-efd8-11ef-ae05-0affebd27607
DTSTAMP:20260421T025509Z
SUMMARY:Possible Snow Make Up Days (if needed)
URL;VALUE=URI:https://www.wenatcheeschools.org/wa/calendar/7510077/possible
 -snow-make-up-days-if-needed
DTSTART;VALUE=DATE:20260615
DTEND;VALUE=DATE:20260617
END:VEVENT
END:VCALENDAR
