BEGIN:VCALENDAR
VERSION:2.0
PRODID:SchoolNow
CALSCALE:GREGORIAN
BEGIN:VEVENT
UID:dbdf9752-efd8-11ef-874f-0affebd27607
DTSTAMP:20260421T025509Z
SUMMARY:End of First Semester
URL;VALUE=URI:https://www.wenatcheeschools.org/wa/calendar/7510078/end-of-f
 irst-semester
DTSTART;VALUE=DATE:20260122
DTEND;VALUE=DATE:20260123
END:VEVENT
END:VCALENDAR
