BEGIN:VCALENDAR
VERSION:2.0
PRODID:SchoolNow
CALSCALE:GREGORIAN
BEGIN:VEVENT
UID:cd9daecc-7d45-11f0-b6f2-0afff59c1769
DTSTAMP:20260421T025509Z
SUMMARY:PTSA Meeting
LOCATION:Library
URL;VALUE=URI:https://www.wenatcheeschools.org/wa/calendar/8522645/ptsa-mee
 ting
DTSTART:20260417T010000Z
DTEND:20260417T020000Z
ATTACH;FILENAME=Notes - PTSA Meeting;FMTTYPE=application/octet-stream:https
 ://docs.google.com/document/d/1p094vW10clxj2oGHnaeFBgNpsQ1y37buTTR_mk6dN9w
 /edit
END:VEVENT
END:VCALENDAR
