BEGIN:VCALENDAR
VERSION:2.0
PRODID:SchoolNow
CALSCALE:GREGORIAN
BEGIN:VEVENT
UID:ddb03f28-9591-11f0-980f-0a58a9feac02
DTSTAMP:20260421T025509Z
SUMMARY:Spring Strings & Choir Concert
URL;VALUE=URI:https://www.wenatcheeschools.org/wa/calendar/8643736/spring-s
 trings-choir-concert
DTSTART:20260401T013000Z
DTEND:20260401T023000Z
END:VEVENT
END:VCALENDAR
