BEGIN:VCALENDAR
VERSION:2.0
PRODID:SchoolNow
CALSCALE:GREGORIAN
BEGIN:VEVENT
UID:b3707c54-98c1-11f0-bb55-0a58a9feac02
DTSTAMP:20260420T205010Z
SUMMARY:Easter
URL;VALUE=URI:https://www.wenatcheeschools.org/wa/calendar/8657002/easter
DTSTART;VALUE=DATE:20260405
DTEND;VALUE=DATE:20260406
END:VEVENT
END:VCALENDAR
