BEGIN:VCALENDAR
VERSION:2.0
PRODID:SchoolNow
CALSCALE:GREGORIAN
BEGIN:VEVENT
UID:b3707e02-98c1-11f0-bf1b-0a58a9feac02
DTSTAMP:20260421T025509Z
SUMMARY:Secretaries Week
URL;VALUE=URI:https://www.wenatcheeschools.org/wa/calendar/8657003/secretar
 ies-week
DTSTART;VALUE=DATE:20260420
DTEND;VALUE=DATE:20260425
END:VEVENT
END:VCALENDAR
