BEGIN:VCALENDAR
VERSION:2.0
PRODID:SchoolNow
CALSCALE:GREGORIAN
BEGIN:VEVENT
UID:b3707f2e-98c1-11f0-9d12-0a58a9feac02
DTSTAMP:20260421T025509Z
SUMMARY:Teacher Appreciation Week
URL;VALUE=URI:https://www.wenatcheeschools.org/wa/calendar/8657004/teacher-
 appreciation-week
DTSTART;VALUE=DATE:20260504
DTEND;VALUE=DATE:20260509
END:VEVENT
END:VCALENDAR
