BEGIN:VCALENDAR
VERSION:2.0
PRODID:SchoolNow
CALSCALE:GREGORIAN
BEGIN:VEVENT
UID:b3708046-98c1-11f0-96cc-0a58a9feac02
DTSTAMP:20260421T025509Z
SUMMARY:Classified Week
URL;VALUE=URI:https://www.wenatcheeschools.org/wa/calendar/8657005/classifi
 ed-week
DTSTART;VALUE=DATE:20260309
DTEND;VALUE=DATE:20260314
END:VEVENT
END:VCALENDAR
