BEGIN:VCALENDAR
VERSION:2.0
PRODID:SchoolNow
CALSCALE:GREGORIAN
BEGIN:VEVENT
UID:b3708140-98c1-11f0-aca6-0a58a9feac02
DTSTAMP:20260421T025509Z
SUMMARY:Mothers Day
URL;VALUE=URI:https://www.wenatcheeschools.org/wa/calendar/8657006/mothers-
 day
DTSTART;VALUE=DATE:20260510
DTEND;VALUE=DATE:20260511
END:VEVENT
END:VCALENDAR
