BEGIN:VCALENDAR
VERSION:2.0
PRODID:SchoolNow
CALSCALE:GREGORIAN
BEGIN:VEVENT
UID:b37083f2-98c1-11f0-8281-0a58a9feac02
DTSTAMP:20260421T025509Z
SUMMARY:New Years Day
URL;VALUE=URI:https://www.wenatcheeschools.org/wa/calendar/8657009/new-year
 s-day
DTSTART;VALUE=DATE:20260101
DTEND;VALUE=DATE:20260102
END:VEVENT
END:VCALENDAR
