BEGIN:VCALENDAR
VERSION:2.0
PRODID:SchoolNow
CALSCALE:GREGORIAN
BEGIN:VEVENT
UID:b37084e2-98c1-11f0-81ea-0a58a9feac02
DTSTAMP:20260421T150512Z
SUMMARY:New Years Day
URL;VALUE=URI:https://www.wenatcheeschools.org/wa/calendar/8657010/new-year
 s-day
DTSTART;VALUE=DATE:20270101
DTEND;VALUE=DATE:20270102
END:VEVENT
END:VCALENDAR
