BEGIN:VCALENDAR
VERSION:2.0
PRODID:SchoolNow
CALSCALE:GREGORIAN
BEGIN:VEVENT
UID:b37085c8-98c1-11f0-84d8-0a58a9feac02
DTSTAMP:20260421T025509Z
SUMMARY:Christmas Eve
URL;VALUE=URI:https://www.wenatcheeschools.org/wa/calendar/8657011/christma
 s-eve
DTSTART;VALUE=DATE:20251224
DTEND;VALUE=DATE:20251225
END:VEVENT
END:VCALENDAR
