BEGIN:VCALENDAR
VERSION:2.0
PRODID:SchoolNow
CALSCALE:GREGORIAN
BEGIN:VEVENT
UID:b37086ae-98c1-11f0-9c82-0a58a9feac02
DTSTAMP:20260421T090012Z
SUMMARY:Christmas Eve
URL;VALUE=URI:https://www.wenatcheeschools.org/wa/calendar/8657012/christma
 s-eve
DTSTART;VALUE=DATE:20261224
DTEND;VALUE=DATE:20261225
END:VEVENT
END:VCALENDAR
