BEGIN:VCALENDAR
VERSION:2.0
PRODID:SchoolNow
CALSCALE:GREGORIAN
BEGIN:VEVENT
UID:b3708794-98c1-11f0-9f84-0a58a9feac02
DTSTAMP:20260421T025509Z
SUMMARY:Christmas
URL;VALUE=URI:https://www.wenatcheeschools.org/wa/calendar/8657013/christma
 s
DTSTART;VALUE=DATE:20251225
DTEND;VALUE=DATE:20251226
END:VEVENT
END:VCALENDAR
